BEGIN:VCALENDAR
VERSION:2.0
PRODID:-//Igreja da Graça - ECPv6.15.15//NONSGML v1.0//EN
CALSCALE:GREGORIAN
METHOD:PUBLISH
X-ORIGINAL-URL:https://igrejadagraca.pt
X-WR-CALDESC:Eventos para Igreja da Graça
REFRESH-INTERVAL;VALUE=DURATION:PT1H
X-Robots-Tag:noindex
X-PUBLISHED-TTL:PT1H
BEGIN:VTIMEZONE
TZID:Europe/Lisbon
BEGIN:DAYLIGHT
TZOFFSETFROM:+0000
TZOFFSETTO:+0100
TZNAME:WEST
DTSTART:20240331T010000
END:DAYLIGHT
BEGIN:STANDARD
TZOFFSETFROM:+0100
TZOFFSETTO:+0000
TZNAME:WET
DTSTART:20241027T010000
END:STANDARD
BEGIN:DAYLIGHT
TZOFFSETFROM:+0000
TZOFFSETTO:+0100
TZNAME:WEST
DTSTART:20250330T010000
END:DAYLIGHT
BEGIN:STANDARD
TZOFFSETFROM:+0100
TZOFFSETTO:+0000
TZNAME:WET
DTSTART:20251026T010000
END:STANDARD
BEGIN:DAYLIGHT
TZOFFSETFROM:+0000
TZOFFSETTO:+0100
TZNAME:WEST
DTSTART:20260329T010000
END:DAYLIGHT
BEGIN:STANDARD
TZOFFSETFROM:+0100
TZOFFSETTO:+0000
TZNAME:WET
DTSTART:20261025T010000
END:STANDARD
END:VTIMEZONE
BEGIN:VEVENT
DTSTART;TZID=Europe/Lisbon:20250803T190000
DTEND;TZID=Europe/Lisbon:20250803T233000
DTSTAMP:20260422T184315
CREATED:20250620T084504Z
LAST-MODIFIED:20250620T084504Z
UID:25609-1754247600-1754263800@igrejadagraca.pt
SUMMARY:Cinema: Pride and Prejudice
DESCRIPTION:Os claustros da Igreja da Graça recebem cinema ao ar livre\, numa iniciativa da Black Cat Cinema. \nDia 3 de agosto: Mergulhe no romance intemporal de “Pride and Prejudice”. Realizada por Joe Wright\, esta adorada adaptação do romance clássico de Jane Austen segue Elizabeth Bennet e Mr. Darcy à medida que estes lidam com o amor\, a classe e as expectativas sociais na Inglaterra do século XIX. Com uma cinematografia exuberante e desempenhos estelares\, é uma exploração cativante do amor e dos mal-entendidos. \nBilhetes e mais informações aqui.
URL:https://igrejadagraca.pt/event/cinema-pride-and-prejudice-2/
CATEGORIES:Cinema,Eventos
ATTACH;FMTTYPE=image/png:https://igrejadagraca.pt/wp-content/uploads/2025/06/cinema-igreja-graca-orgulho.png
END:VEVENT
BEGIN:VEVENT
DTSTART;TZID=Europe/Lisbon:20250804T190000
DTEND;TZID=Europe/Lisbon:20250804T233000
DTSTAMP:20260422T184315
CREATED:20250620T084612Z
LAST-MODIFIED:20250620T093450Z
UID:25612-1754334000-1754350200@igrejadagraca.pt
SUMMARY:Cinema: The Breakfast Club
DESCRIPTION:Os claustros da Igreja da Graça recebem cinema ao ar livre\, numa iniciativa da Black Cat Cinema. \nDia 4 de agosto: Passe um sábado em detenção com The Breakfast Club\, onde cinco estudantes do liceu de diferentes turmas descobrem ligações inesperadas. Realizado por John Hughes\, este drama adolescente icónico mistura humor e coração numa história intemporal de identidade e aceitação. \nBilhetes e mais informações aqui.
URL:https://igrejadagraca.pt/event/cinema-the-breakfast-club/
CATEGORIES:Cinema,Eventos
ATTACH;FMTTYPE=image/png:https://igrejadagraca.pt/wp-content/uploads/2025/06/cinema-graca.png
END:VEVENT
BEGIN:VEVENT
DTSTART;TZID=Europe/Lisbon:20250805T190000
DTEND;TZID=Europe/Lisbon:20250805T233000
DTSTAMP:20260422T184315
CREATED:20250620T091432Z
LAST-MODIFIED:20250620T091432Z
UID:25637-1754420400-1754436600@igrejadagraca.pt
SUMMARY:Cinema: The Royal Tenenbaums
DESCRIPTION:Os claustros da Igreja da Graça recebem cinema ao ar livre\, numa iniciativa da Black Cat Cinema. \nDia 5 de agosto: Entre no mundo cativante de “The Royal Tenenbaums“\, uma obra-prima de Wes Anderson que desvenda a vida excêntrica e disfuncional de uma antiga família prodígio\, enquanto eles se reúnem em sua casa de infância\, tecendo uma história de relacionamentos distantes\, redescobertas inesperadas e o caos comovente que se segue em meio ao cenário de brilho peculiar e charme fora do comum. \nBilhetes e mais informações aqui.
URL:https://igrejadagraca.pt/event/cinema-the-royal-tenenbaums/
CATEGORIES:Cinema,Eventos
ATTACH;FMTTYPE=image/png:https://igrejadagraca.pt/wp-content/uploads/2025/06/igreja-graca-cinema.png
END:VEVENT
BEGIN:VEVENT
DTSTART;TZID=Europe/Lisbon:20250806T190000
DTEND;TZID=Europe/Lisbon:20250806T233000
DTSTAMP:20260422T184315
CREATED:20250620T091103Z
LAST-MODIFIED:20250620T091103Z
UID:25634-1754506800-1754523000@igrejadagraca.pt
SUMMARY:Cinema: Lady Bird
DESCRIPTION:Os claustros da Igreja da Graça recebem cinema ao ar livre\, numa iniciativa da Black Cat Cinema. \nDia 6 de agosto: Descubra a sentida história de amadurecimento de “Lady Bird”. Realizado por Greta Gerwig\, este filme aclamado pela crítica segue Christine “Lady Bird” McPherson\, finalista do liceu\, à medida que esta navega pelas provações da adolescência\, da família e dos seus sonhos de ir para a universidade. Com actuações pungentes e uma escrita afiada\, é uma viagem profundamente identificável e emocionalmente ressonante. \nBilhetes e mais informações aqui.
URL:https://igrejadagraca.pt/event/cinema-lady-bird-2/
CATEGORIES:Cinema,Eventos
ATTACH;FMTTYPE=image/png:https://igrejadagraca.pt/wp-content/uploads/2025/06/ladybird-graca.png
END:VEVENT
BEGIN:VEVENT
DTSTART;TZID=Europe/Lisbon:20250817T190000
DTEND;TZID=Europe/Lisbon:20250817T233000
DTSTAMP:20260422T184315
CREATED:20250620T090852Z
LAST-MODIFIED:20250620T090852Z
UID:25631-1755457200-1755473400@igrejadagraca.pt
SUMMARY:Cinema: Paris\, Texas
DESCRIPTION:Os claustros da Igreja da Graça recebem cinema ao ar livre\, numa iniciativa da Black Cat Cinema. \nDia 17 de agosto: Experimente a viagem comovente de “Paris\, Texas”. Realizado por Wim Wenders\, este drama evocativo segue um homem que reaparece após anos de deambulação\, reencontrando o seu filho e procurando a sua mulher afastada. Com uma cinematografia deslumbrante e uma narrativa profundamente emocional\, é uma poderosa exploração da redenção e da família. \nBilhetes e mais informações aqui.
URL:https://igrejadagraca.pt/event/cinema-paris-texas/
CATEGORIES:Cinema,Eventos
ATTACH;FMTTYPE=image/png:https://igrejadagraca.pt/wp-content/uploads/2025/06/Paris-Texas-Graca-Lisboa.png
END:VEVENT
BEGIN:VEVENT
DTSTART;TZID=Europe/Lisbon:20250818T190000
DTEND;TZID=Europe/Lisbon:20250818T233000
DTSTAMP:20260422T184315
CREATED:20250620T090415Z
LAST-MODIFIED:20250620T090634Z
UID:25628-1755543600-1755559800@igrejadagraca.pt
SUMMARY:Cinema: Love Actually
DESCRIPTION:Os claustros da Igreja da Graça recebem cinema ao ar livre\, numa iniciativa da Black Cat Cinema. \nDia 18 de agosto: Siga as vidas entrelaçadas de amantes\, amigos e estranhos em Love Actually\, um mosaico comovente de romance e ligação. Realizado por Richard Curtis\, este favorito das férias capta a alegria\, a confusão e a magia do amor em todas as suas formas. \nBilhetes e mais informações aqui.
URL:https://igrejadagraca.pt/event/cinema-love-actually/
CATEGORIES:Cinema,Eventos
ATTACH;FMTTYPE=image/png:https://igrejadagraca.pt/wp-content/uploads/2025/06/igreja-cinema.png
END:VEVENT
BEGIN:VEVENT
DTSTART;TZID=Europe/Lisbon:20250819T190000
DTEND;TZID=Europe/Lisbon:20250819T233000
DTSTAMP:20260422T184315
CREATED:20250620T090207Z
LAST-MODIFIED:20250620T090207Z
UID:25625-1755630000-1755646200@igrejadagraca.pt
SUMMARY:Cinema: E.T. - The Extra-Terrestrial
DESCRIPTION:Os claustros da Igreja da Graça recebem cinema ao ar livre\, numa iniciativa da Black Cat Cinema. \nDia 19 de agosto: Embarque em uma jornada inesquecível com E.T. – O Extra-Terrestre\, onde a amizade entre um garoto e um alienígena perdido toca corações. Dirigido por Steven Spielberg\, este clássico atemporal combina emoção\, aventura e o poder do afeto verdadeiro. \nBilhetes e mais informações aqui.
URL:https://igrejadagraca.pt/event/cinema-e-t-the-extra-terrestrial/
CATEGORIES:Cinema,Eventos
ATTACH;FMTTYPE=image/png:https://igrejadagraca.pt/wp-content/uploads/2025/06/Agenda-Site-da-Graca-5.png
END:VEVENT
BEGIN:VEVENT
DTSTART;TZID=Europe/Lisbon:20250820T190000
DTEND;TZID=Europe/Lisbon:20250820T233000
DTSTAMP:20260422T184315
CREATED:20250620T090007Z
LAST-MODIFIED:20250620T090007Z
UID:25622-1755716400-1755732600@igrejadagraca.pt
SUMMARY:Cinema: Eternal Sunshine of the Spotless Mind
DESCRIPTION:Os claustros da Igreja da Graça recebem cinema ao ar livre\, numa iniciativa da Black Cat Cinema. \nDia 20 de agosto: Descubra a beleza frágil de Eternal Sunshine of the Spotless Mind\, onde um homem se submete a um procedimento de apagamento de memória para esquecer um amor passado. Realizado por Michel Gondry\, este romance poético de ficção científica explora a dor\, a ligação e as memórias que lutamos para manter. \nBilhetes e mais informações aqui.
URL:https://igrejadagraca.pt/event/cinema-eternal-sunshine-of-the-spotless-mind/
CATEGORIES:Cinema,Eventos
ATTACH;FMTTYPE=image/png:https://igrejadagraca.pt/wp-content/uploads/2025/06/cinema-graca-lisboa.png
END:VEVENT
BEGIN:VEVENT
DTSTART;TZID=Europe/Lisbon:20250821T190000
DTEND;TZID=Europe/Lisbon:20250821T233000
DTSTAMP:20260422T184315
CREATED:20250620T085448Z
LAST-MODIFIED:20250620T085448Z
UID:25619-1755802800-1755819000@igrejadagraca.pt
SUMMARY:Cinema: Top Gun
DESCRIPTION:Os claustros da Igreja da Graça recebem cinema ao ar livre\, numa iniciativa da Black Cat Cinema. \nDia 21 de agosto: Entre no mundo de alta octanagem de Top Gun\, onde os pilotos de caça de elite ultrapassam os limites nos céus e em terra. Realizado por Tony Scott\, este clássico repleto de ação mistura adrenalina\, rivalidade e o estilo icónico dos anos 80. \nBilhetes e mais informações aqui.
URL:https://igrejadagraca.pt/event/cinema-top-gun/
CATEGORIES:Cinema,Eventos
ATTACH;FMTTYPE=image/png:https://igrejadagraca.pt/wp-content/uploads/2025/06/top-gun-cinema-lisboa.png
END:VEVENT
BEGIN:VEVENT
DTSTART;TZID=Europe/Lisbon:20250831T190000
DTEND;TZID=Europe/Lisbon:20250831T233000
DTSTAMP:20260422T184315
CREATED:20250620T084751Z
LAST-MODIFIED:20250620T085017Z
UID:25614-1756666800-1756683000@igrejadagraca.pt
SUMMARY:Cinema: Breakfast at Tiffany's
DESCRIPTION:Os claustros da Igreja da Graça recebem cinema ao ar livre\, numa iniciativa da Black Cat Cinema. \nDia 31 de agosto: Delicie-se com o encanto intemporal de “Breakfast at Tiffany’s”. Realizada por Blake Edwards\, esta comédia romântica clássica segue a encantadora e de espírito livre Holly Golightly à medida que ela navega pela vida e pelo amor na cidade de Nova Iorque. Com o desempenho icónico de Audrey Hepburn e uma banda sonora inesquecível\, é uma experiência cinematográfica encantadora e cheia de estilo. \nBilhetes e mais informações aqui.
URL:https://igrejadagraca.pt/event/cinema-breakfast-at-tiffanys/
CATEGORIES:Cinema,Eventos
ATTACH;FMTTYPE=image/png:https://igrejadagraca.pt/wp-content/uploads/2025/06/cinema-ar-livre.png
END:VEVENT
END:VCALENDAR