BEGIN:VCALENDAR
VERSION:2.0
PRODID:-//Igreja da Graça - ECPv6.15.15//NONSGML v1.0//EN
CALSCALE:GREGORIAN
METHOD:PUBLISH
X-ORIGINAL-URL:https://igrejadagraca.pt
X-WR-CALDESC:Eventos para Igreja da Graça
REFRESH-INTERVAL;VALUE=DURATION:PT1H
X-Robots-Tag:noindex
X-PUBLISHED-TTL:PT1H
BEGIN:VTIMEZONE
TZID:Europe/Lisbon
BEGIN:DAYLIGHT
TZOFFSETFROM:+0000
TZOFFSETTO:+0100
TZNAME:WEST
DTSTART:20240331T010000
END:DAYLIGHT
BEGIN:STANDARD
TZOFFSETFROM:+0100
TZOFFSETTO:+0000
TZNAME:WET
DTSTART:20241027T010000
END:STANDARD
BEGIN:DAYLIGHT
TZOFFSETFROM:+0000
TZOFFSETTO:+0100
TZNAME:WEST
DTSTART:20250330T010000
END:DAYLIGHT
BEGIN:STANDARD
TZOFFSETFROM:+0100
TZOFFSETTO:+0000
TZNAME:WET
DTSTART:20251026T010000
END:STANDARD
BEGIN:DAYLIGHT
TZOFFSETFROM:+0000
TZOFFSETTO:+0100
TZNAME:WEST
DTSTART:20260329T010000
END:DAYLIGHT
BEGIN:STANDARD
TZOFFSETFROM:+0100
TZOFFSETTO:+0000
TZNAME:WET
DTSTART:20261025T010000
END:STANDARD
END:VTIMEZONE
BEGIN:VEVENT
DTSTART;TZID=Europe/Lisbon:20250321T110000
DTEND;TZID=Europe/Lisbon:20250427T150000
DTSTAMP:20260422T124116
CREATED:20250325T101322Z
LAST-MODIFIED:20250325T103027Z
UID:25429-1742554800-1745766000@igrejadagraca.pt
SUMMARY:Exposição "Via Crucis"
DESCRIPTION:Já pode visitar a exposição “Via Crucis”\, de Santiago Belacqua \, na Sala do Capítulo\, do Convento da Graça.\n\n\n\nA mostra é composta por 14 imagens\, representando as 14 estações da Via-Sacra. A 15ª estação\, introduzida pelo Papa João Paulo II\, será acrescentada no Domingo de Páscoa e ficará em exibição durante mais uma semana\, na Semana de Pascoela.
URL:https://igrejadagraca.pt/event/exposicao-via-crucis/
CATEGORIES:Eventos,Exposição
ATTACH;FMTTYPE=image/png:https://igrejadagraca.pt/wp-content/uploads/2025/03/via-crucis-igreja-graca.png
END:VEVENT
BEGIN:VEVENT
DTSTART;TZID=Europe/Lisbon:20250401T210000
DTEND;TZID=Europe/Lisbon:20250401T220000
DTSTAMP:20260422T124116
CREATED:20250313T123841Z
LAST-MODIFIED:20250313T123841Z
UID:25419-1743541200-1743544800@igrejadagraca.pt
SUMMARY:Formação Jubileu da Esperança - A Esperança na Palavra
DESCRIPTION:Esperança em São Lucas\, com Padre David Palatino.
URL:https://igrejadagraca.pt/event/formacao-jubileu-da-esperanca-a-esperanca-na-palavra-3/
CATEGORIES:Eventos,Paróquia
ATTACH;FMTTYPE=image/png:https://igrejadagraca.pt/wp-content/uploads/2025/03/Esperanca-na-palavra.png
END:VEVENT
BEGIN:VEVENT
DTSTART;TZID=Europe/Lisbon:20250403T100000
DTEND;TZID=Europe/Lisbon:20250403T100000
DTSTAMP:20260422T124116
CREATED:20250225T120106Z
LAST-MODIFIED:20250313T122326Z
UID:25381-1743674400-1743674400@igrejadagraca.pt
SUMMARY:Encontros de Aprofundamento da Fé
DESCRIPTION:“Marcados com o Espírito Santo” com Pe. Pedro Gouveia.
URL:https://igrejadagraca.pt/event/encontros-de-aprofundamento-da-fe-6/
CATEGORIES:Eventos,Paróquia
ATTACH;FMTTYPE=image/png:https://igrejadagraca.pt/wp-content/uploads/2025/02/encontros-graca.png
END:VEVENT
BEGIN:VEVENT
DTSTART;TZID=Europe/Lisbon:20250404T200000
DTEND;TZID=Europe/Lisbon:20250404T220000
DTSTAMP:20260422T124116
CREATED:20250326T123111Z
LAST-MODIFIED:20250326T124521Z
UID:25435-1743796800-1743804000@igrejadagraca.pt
SUMMARY:Tempo de Confissões
DESCRIPTION:Confissões dia 4 de abril\, a partir das 20h00\, na Igreja da Graça.
URL:https://igrejadagraca.pt/event/tempo-de-confissoes/
CATEGORIES:Eventos,Paróquia
ATTACH;FMTTYPE=image/png:https://igrejadagraca.pt/wp-content/uploads/2025/03/confissoes-graca-igreja.png
END:VEVENT
BEGIN:VEVENT
DTSTART;TZID=Europe/Lisbon:20250405T140000
DTEND;TZID=Europe/Lisbon:20250405T153000
DTSTAMP:20260422T124116
CREATED:20250326T123254Z
LAST-MODIFIED:20250326T124441Z
UID:25439-1743861600-1743867000@igrejadagraca.pt
SUMMARY:Confissões para a Catequese
DESCRIPTION:Confissões para a catequese paroquial realizam-se dia 5de abril\, a partir das 14h00\, na Igreja da Graça.
URL:https://igrejadagraca.pt/event/confissoes-para-a-catequese/
CATEGORIES:Eventos,Paróquia
ATTACH;FMTTYPE=image/png:https://igrejadagraca.pt/wp-content/uploads/2025/03/confissoes-graca-igreja.png
END:VEVENT
BEGIN:VEVENT
DTSTART;TZID=Europe/Lisbon:20250410T100000
DTEND;TZID=Europe/Lisbon:20250410T100000
DTSTAMP:20260422T124116
CREATED:20250225T120524Z
LAST-MODIFIED:20250313T122301Z
UID:25383-1744279200-1744279200@igrejadagraca.pt
SUMMARY:Encontros de Aprofundamento da Fé
DESCRIPTION:“Crescimento e Transformação” com Cón. Joaquim Loureiro.
URL:https://igrejadagraca.pt/event/encontros-de-aprofundamento-da-fe-7/
CATEGORIES:Eventos,Paróquia
ATTACH;FMTTYPE=image/png:https://igrejadagraca.pt/wp-content/uploads/2025/02/encontros-graca.png
END:VEVENT
BEGIN:VEVENT
DTSTART;TZID=Europe/Lisbon:20250413T110000
DTEND;TZID=Europe/Lisbon:20250413T153000
DTSTAMP:20260422T124116
CREATED:20250326T124123Z
LAST-MODIFIED:20250326T130551Z
UID:25442-1744542000-1744558200@igrejadagraca.pt
SUMMARY:Domingo de Ramos
DESCRIPTION:Bênção dos Ramos às 11h00\, na igreja da Graça\, seguida de procissão para a Igreja de São Vicente onde será celebrada missa à chegada. (Não há missa no Monte\, nem há missa das 19h00 em São Vicente).
URL:https://igrejadagraca.pt/event/domingo-de-ramos-2/
CATEGORIES:Celebrações,Paróquia
ATTACH;FMTTYPE=image/png:https://igrejadagraca.pt/wp-content/uploads/2025/03/domingo-ramos-graca.png
END:VEVENT
BEGIN:VEVENT
DTSTART;TZID=Europe/Lisbon:20250414T110000
DTEND;TZID=Europe/Lisbon:20250414T153000
DTSTAMP:20260422T124116
CREATED:20250326T125149Z
LAST-MODIFIED:20250326T130350Z
UID:25446-1744628400-1744644600@igrejadagraca.pt
SUMMARY:Segunda-feira Santa
DESCRIPTION:Missa às 9h30\, na Igreja da Graça.
URL:https://igrejadagraca.pt/event/segunda-feira-santa/
CATEGORIES:Celebrações,Paróquia
ATTACH;FMTTYPE=image/png:https://igrejadagraca.pt/wp-content/uploads/2025/03/missa-segunda-graca.png
END:VEVENT
BEGIN:VEVENT
DTSTART;VALUE=DATE:20250415
DTEND;VALUE=DATE:20250416
DTSTAMP:20260422T124116
CREATED:20250326T125529Z
LAST-MODIFIED:20250326T130923Z
UID:25449-1744675200-1744761599@igrejadagraca.pt
SUMMARY:Terça-feira Santa
DESCRIPTION:Missa às 9h30\, na Igreja da Graça.\nMissa às 19h00\, na Igreja do Monte.\nVia-Sacra às 21h00 com início na Igreja da Graça\, com percurso pelo Jardim do Largo da Graça.
URL:https://igrejadagraca.pt/event/terca-feira-santa/
CATEGORIES:Celebrações,Paróquia
ATTACH;FMTTYPE=image/png:https://igrejadagraca.pt/wp-content/uploads/2025/03/igreja-graca-via-sacra.png
END:VEVENT
BEGIN:VEVENT
DTSTART;VALUE=DATE:20250416
DTEND;VALUE=DATE:20250417
DTSTAMP:20260422T124116
CREATED:20250326T130034Z
LAST-MODIFIED:20250326T130244Z
UID:25455-1744761600-1744847999@igrejadagraca.pt
SUMMARY:Quarta-feira Santa
DESCRIPTION:Missa às 9h30\, na Igreja da Graça.
URL:https://igrejadagraca.pt/event/quarta-feira-santa/
CATEGORIES:Celebrações,Paróquia
ATTACH;FMTTYPE=image/png:https://igrejadagraca.pt/wp-content/uploads/2025/03/missa-quarta-graca.png
END:VEVENT
BEGIN:VEVENT
DTSTART;TZID=Europe/Lisbon:20250417T190000
DTEND;TZID=Europe/Lisbon:20250417T200000
DTSTAMP:20260422T124116
CREATED:20250326T125758Z
LAST-MODIFIED:20250326T125758Z
UID:25434-1744916400-1744920000@igrejadagraca.pt
SUMMARY:Missa da Ceia do Senhor
DESCRIPTION:Apresentação dos Santos Óleos\, Lava-Pés e Trasladação do Santíssimo Sacramento\, na quinta-feira santa\, 17 de abril\, às 19h00\, na Igreja da Graça.
URL:https://igrejadagraca.pt/event/missa-da-ceia-do-senhor/
CATEGORIES:Celebrações,Paróquia
ATTACH;FMTTYPE=image/jpeg:https://igrejadagraca.pt/wp-content/uploads/2025/03/Agenda-Site-da-Graca.jpg
END:VEVENT
BEGIN:VEVENT
DTSTART;TZID=Europe/Lisbon:20250417T203000
DTEND;TZID=Europe/Lisbon:20250417T223000
DTSTAMP:20260422T124116
CREATED:20250225T121218Z
LAST-MODIFIED:20250326T130328Z
UID:25385-1744921800-1744929000@igrejadagraca.pt
SUMMARY:Tempos de Adoração Eucarística
DESCRIPTION:Na quinta-feira santa\, 17 de abril\, haverá Tempo de Adoração Eucarística entre as 20h30 e as 22h30 com a catequese e escuteiros\, grupo Água Viva e Legião de Maria\, coros e catequese de adultos\, MEC\, leitores e com a Efata\, Quatro Pontos e Acólitos.
URL:https://igrejadagraca.pt/event/encontros-de-aprofundamento-da-fe-8/
CATEGORIES:Celebrações,Paróquia
ATTACH;FMTTYPE=image/jpeg:https://igrejadagraca.pt/wp-content/uploads/2025/02/Tempos-de-Adoracao-Eucaristica.jpg
END:VEVENT
BEGIN:VEVENT
DTSTART;TZID=Europe/Lisbon:20250418T150000
DTEND;TZID=Europe/Lisbon:20250418T160000
DTSTAMP:20260422T124116
CREATED:20250326T132640Z
LAST-MODIFIED:20250326T132640Z
UID:25460-1744988400-1744992000@igrejadagraca.pt
SUMMARY:Celebração da Paixão do Senhor
DESCRIPTION:Liturgia da Palavra\, adoração da Cruz\, distribuição da Sagrada Comunhão e procissão pelos Claustros do Convento da Graça\, na Sexta-Feira Santa\, às 15h00.
URL:https://igrejadagraca.pt/event/celebracao-da-paixao-do-senhor/
CATEGORIES:Celebrações,Paróquia
ATTACH;FMTTYPE=image/jpeg:https://igrejadagraca.pt/wp-content/uploads/2025/03/Celebracao-da-Paixao-do-Senhor-Graca.jpg
END:VEVENT
BEGIN:VEVENT
DTSTART;TZID=Europe/Lisbon:20250419T213000
DTEND;TZID=Europe/Lisbon:20250419T223000
DTSTAMP:20260422T124116
CREATED:20250326T135727Z
LAST-MODIFIED:20250326T135727Z
UID:25454-1745098200-1745101800@igrejadagraca.pt
SUMMARY:Vigília Pascal
DESCRIPTION:A Vigília Pascal decorre no Sábado Santo\, às 21h30\, na Igreja da Graça. Não se esqueça de trazer de casa ou adquirir\, um pouco antes da celebração\, uma vela para renovar as promessas do batismo. Não haverá missas vespertinas nesse dia.
URL:https://igrejadagraca.pt/event/vigilia-pascal-2/
CATEGORIES:Celebrações,Paróquia
ATTACH;FMTTYPE=image/jpeg:https://igrejadagraca.pt/wp-content/uploads/2025/03/Vigilia-Pascal-Graca.jpg
END:VEVENT
BEGIN:VEVENT
DTSTART;TZID=Europe/Lisbon:20250420T113000
DTEND;TZID=Europe/Lisbon:20250420T123000
DTSTAMP:20260422T124116
CREATED:20250326T140235Z
LAST-MODIFIED:20250326T140235Z
UID:25467-1745148600-1745152200@igrejadagraca.pt
SUMMARY:Missa do Domingo de Páscoa
DESCRIPTION:A missa do Domingo de Páscoa vai decorrer às 11h30\, na Igreja da Graça. Não haverá missa no Monte nem em São Vicente de Fora nesse dia.
URL:https://igrejadagraca.pt/event/missa-do-domingo-de-pascoa/
CATEGORIES:Celebrações,Paróquia
ATTACH;FMTTYPE=image/jpeg:https://igrejadagraca.pt/wp-content/uploads/2023/10/Sexta-Feira-Santa.jpg
END:VEVENT
END:VCALENDAR