BEGIN:VCALENDAR
VERSION:2.0
PRODID:-//Igreja da Graça - ECPv6.15.15//NONSGML v1.0//EN
CALSCALE:GREGORIAN
METHOD:PUBLISH
X-ORIGINAL-URL:https://igrejadagraca.pt
X-WR-CALDESC:Eventos para Igreja da Graça
REFRESH-INTERVAL;VALUE=DURATION:PT1H
X-Robots-Tag:noindex
X-PUBLISHED-TTL:PT1H
BEGIN:VTIMEZONE
TZID:Europe/Lisbon
BEGIN:DAYLIGHT
TZOFFSETFROM:+0000
TZOFFSETTO:+0100
TZNAME:WEST
DTSTART:20230326T010000
END:DAYLIGHT
BEGIN:STANDARD
TZOFFSETFROM:+0100
TZOFFSETTO:+0000
TZNAME:WET
DTSTART:20231029T010000
END:STANDARD
BEGIN:DAYLIGHT
TZOFFSETFROM:+0000
TZOFFSETTO:+0100
TZNAME:WEST
DTSTART:20240331T010000
END:DAYLIGHT
BEGIN:STANDARD
TZOFFSETFROM:+0100
TZOFFSETTO:+0000
TZNAME:WET
DTSTART:20241027T010000
END:STANDARD
BEGIN:DAYLIGHT
TZOFFSETFROM:+0000
TZOFFSETTO:+0100
TZNAME:WEST
DTSTART:20250330T010000
END:DAYLIGHT
BEGIN:STANDARD
TZOFFSETFROM:+0100
TZOFFSETTO:+0000
TZNAME:WET
DTSTART:20251026T010000
END:STANDARD
BEGIN:DAYLIGHT
TZOFFSETFROM:+0000
TZOFFSETTO:+0100
TZNAME:WEST
DTSTART:20260329T010000
END:DAYLIGHT
BEGIN:STANDARD
TZOFFSETFROM:+0100
TZOFFSETTO:+0000
TZNAME:WET
DTSTART:20261025T010000
END:STANDARD
END:VTIMEZONE
BEGIN:VEVENT
DTSTART;TZID=Europe/Lisbon:20241207T093000
DTEND;TZID=Europe/Lisbon:20250111T183000
DTSTAMP:20260422T034132
CREATED:20241011T162102Z
LAST-MODIFIED:20250129T143548Z
UID:25148-1733563800-1736620200@igrejadagraca.pt
SUMMARY:Exposição de presépios do ceramista Delfim Manuel
DESCRIPTION:A Igreja da Graça\, recebe de 7 de Dezembro a 11 de Janeiro\, a exposição de presépios com o tema “A Graça do Menino Jesus”\, do ceramista Delfim Manuel. \nNão deixe de aproveitar esta oportunidade para visitar esta exposição única. \nA entrada é gratuita. \n 
URL:https://igrejadagraca.pt/event/exposicao-de-presepios-do-ceramista-delfim-manuel/
LOCATION:Igreja da Graça\, Largo da Graça 94\, 1170-165 Lisboa\, Lisboa\, Lisboa\, 1170-165\, Portugal
CATEGORIES:Eventos,Exposição
ATTACH;FMTTYPE=image/png:https://igrejadagraca.pt/wp-content/uploads/2024/10/Agenda-Site-da-Graca-21_Prancheta-1.png
END:VEVENT
END:VCALENDAR