BEGIN:VCALENDAR
VERSION:2.0
PRODID:-//Igreja da Graça - ECPv6.15.15//NONSGML v1.0//EN
CALSCALE:GREGORIAN
METHOD:PUBLISH
X-ORIGINAL-URL:https://igrejadagraca.pt
X-WR-CALDESC:Eventos para Igreja da Graça
REFRESH-INTERVAL;VALUE=DURATION:PT1H
X-Robots-Tag:noindex
X-PUBLISHED-TTL:PT1H
BEGIN:VTIMEZONE
TZID:Europe/Lisbon
BEGIN:DAYLIGHT
TZOFFSETFROM:+0000
TZOFFSETTO:+0100
TZNAME:WEST
DTSTART:20240331T010000
END:DAYLIGHT
BEGIN:STANDARD
TZOFFSETFROM:+0100
TZOFFSETTO:+0000
TZNAME:WET
DTSTART:20241027T010000
END:STANDARD
BEGIN:DAYLIGHT
TZOFFSETFROM:+0000
TZOFFSETTO:+0100
TZNAME:WEST
DTSTART:20250330T010000
END:DAYLIGHT
BEGIN:STANDARD
TZOFFSETFROM:+0100
TZOFFSETTO:+0000
TZNAME:WET
DTSTART:20251026T010000
END:STANDARD
BEGIN:DAYLIGHT
TZOFFSETFROM:+0000
TZOFFSETTO:+0100
TZNAME:WEST
DTSTART:20260329T010000
END:DAYLIGHT
BEGIN:STANDARD
TZOFFSETFROM:+0100
TZOFFSETTO:+0000
TZNAME:WET
DTSTART:20261025T010000
END:STANDARD
END:VTIMEZONE
BEGIN:VEVENT
DTSTART;TZID=Europe/Lisbon:20250820T190000
DTEND;TZID=Europe/Lisbon:20250820T233000
DTSTAMP:20260422T201324
CREATED:20250620T090007Z
LAST-MODIFIED:20250620T090007Z
UID:25622-1755716400-1755732600@igrejadagraca.pt
SUMMARY:Cinema: Eternal Sunshine of the Spotless Mind
DESCRIPTION:Os claustros da Igreja da Graça recebem cinema ao ar livre\, numa iniciativa da Black Cat Cinema. \nDia 20 de agosto: Descubra a beleza frágil de Eternal Sunshine of the Spotless Mind\, onde um homem se submete a um procedimento de apagamento de memória para esquecer um amor passado. Realizado por Michel Gondry\, este romance poético de ficção científica explora a dor\, a ligação e as memórias que lutamos para manter. \nBilhetes e mais informações aqui.
URL:https://igrejadagraca.pt/event/cinema-eternal-sunshine-of-the-spotless-mind/
CATEGORIES:Cinema,Eventos
ATTACH;FMTTYPE=image/png:https://igrejadagraca.pt/wp-content/uploads/2025/06/cinema-graca-lisboa.png
END:VEVENT
END:VCALENDAR