BEGIN:VCALENDAR
VERSION:2.0
PRODID:-//Igreja da Graça - ECPv6.15.15//NONSGML v1.0//EN
CALSCALE:GREGORIAN
METHOD:PUBLISH
X-WR-CALNAME:Igreja da Graça
X-ORIGINAL-URL:https://igrejadagraca.pt
X-WR-CALDESC:Eventos para Igreja da Graça
REFRESH-INTERVAL;VALUE=DURATION:PT1H
X-Robots-Tag:noindex
X-PUBLISHED-TTL:PT1H
BEGIN:VTIMEZONE
TZID:Europe/Lisbon
BEGIN:DAYLIGHT
TZOFFSETFROM:+0000
TZOFFSETTO:+0100
TZNAME:WEST
DTSTART:20240331T010000
END:DAYLIGHT
BEGIN:STANDARD
TZOFFSETFROM:+0100
TZOFFSETTO:+0000
TZNAME:WET
DTSTART:20241027T010000
END:STANDARD
BEGIN:DAYLIGHT
TZOFFSETFROM:+0000
TZOFFSETTO:+0100
TZNAME:WEST
DTSTART:20250330T010000
END:DAYLIGHT
BEGIN:STANDARD
TZOFFSETFROM:+0100
TZOFFSETTO:+0000
TZNAME:WET
DTSTART:20251026T010000
END:STANDARD
BEGIN:DAYLIGHT
TZOFFSETFROM:+0000
TZOFFSETTO:+0100
TZNAME:WEST
DTSTART:20260329T010000
END:DAYLIGHT
BEGIN:STANDARD
TZOFFSETFROM:+0100
TZOFFSETTO:+0000
TZNAME:WET
DTSTART:20261025T010000
END:STANDARD
END:VTIMEZONE
BEGIN:VEVENT
DTSTART;TZID=Europe/Lisbon:20250721T190000
DTEND;TZID=Europe/Lisbon:20250721T233000
DTSTAMP:20260422T184131
CREATED:20250428T115041Z
LAST-MODIFIED:20250428T115041Z
UID:25539-1753124400-1753140600@igrejadagraca.pt
SUMMARY:Cinema: Notting Hill
DESCRIPTION:Os claustros da Igreja da Graça recebem cinema ao ar livre\, numa iniciativa da Black Cat Cinema. \nDia 21 de julho: Deixe-se envolver pelo encantador romance de Notting Hill\, onde a vida de um tímido dono de uma livraria é virada do avesso após um encontro casual com uma atriz mundialmente famosa. Realizada por Roger Michell\, esta sentida comédia romântica mistura humor\, saudade e um amor de conto de fadas no local mais inesperado. \nBilhetes e mais informações aqui.
URL:https://igrejadagraca.pt/event/cinema-notting-hill/
CATEGORIES:Cinema,Eventos
ATTACH;FMTTYPE=image/jpeg:https://igrejadagraca.pt/wp-content/uploads/2025/04/Nothing-Hill-movie.jpg
END:VEVENT
END:VCALENDAR