BEGIN:VCALENDAR
VERSION:2.0
PRODID:-//Igreja da Graça - ECPv6.15.15//NONSGML v1.0//EN
CALSCALE:GREGORIAN
METHOD:PUBLISH
X-ORIGINAL-URL:https://igrejadagraca.pt
X-WR-CALDESC:Eventos para Igreja da Graça
REFRESH-INTERVAL;VALUE=DURATION:PT1H
X-Robots-Tag:noindex
X-PUBLISHED-TTL:PT1H
BEGIN:VTIMEZONE
TZID:Europe/Lisbon
BEGIN:DAYLIGHT
TZOFFSETFROM:+0000
TZOFFSETTO:+0100
TZNAME:WEST
DTSTART:20240331T010000
END:DAYLIGHT
BEGIN:STANDARD
TZOFFSETFROM:+0100
TZOFFSETTO:+0000
TZNAME:WET
DTSTART:20241027T010000
END:STANDARD
BEGIN:DAYLIGHT
TZOFFSETFROM:+0000
TZOFFSETTO:+0100
TZNAME:WEST
DTSTART:20250330T010000
END:DAYLIGHT
BEGIN:STANDARD
TZOFFSETFROM:+0100
TZOFFSETTO:+0000
TZNAME:WET
DTSTART:20251026T010000
END:STANDARD
BEGIN:DAYLIGHT
TZOFFSETFROM:+0000
TZOFFSETTO:+0100
TZNAME:WEST
DTSTART:20260329T010000
END:DAYLIGHT
BEGIN:STANDARD
TZOFFSETFROM:+0100
TZOFFSETTO:+0000
TZNAME:WET
DTSTART:20261025T010000
END:STANDARD
END:VTIMEZONE
BEGIN:VEVENT
DTSTART;TZID=Europe/Lisbon:20250528T190000
DTEND;TZID=Europe/Lisbon:20250528T233000
DTSTAMP:20260422T154219
CREATED:20250424T150805Z
LAST-MODIFIED:20250424T150805Z
UID:25493-1748458800-1748475000@igrejadagraca.pt
SUMMARY:Cinema: Roman Holiday
DESCRIPTION:Os claustros da Igreja da Graça recebem cinema ao ar livre\, numa iniciativa da Black Cat Cinema. \nDia 28 de maio: ​Experimente o romance encantador de “Roman Holiday”. Tendo como pano de fundo a pitoresca Roma\, este clássico intemporal segue uma princesa que foge aos seus deveres reais para um dia de aventura e romance com um jornalista americano. Com a sua história encantadora e atuações cativantes\, é uma joia cinematográfica que continua a cativar o público com a sua história intemporal de amor e espontaneidade. \nBilhetes e mais informações aqui.
URL:https://igrejadagraca.pt/event/cinema-rooman-holiday/
CATEGORIES:Cinema,Eventos
ATTACH;FMTTYPE=image/jpeg:https://igrejadagraca.pt/wp-content/uploads/2025/04/roman-holiday-movie.jpg
END:VEVENT
BEGIN:VEVENT
DTSTART;TZID=Europe/Lisbon:20250528T210000
DTEND;TZID=Europe/Lisbon:20250528T233000
DTSTAMP:20260422T154219
CREATED:20250507T164941Z
LAST-MODIFIED:20250507T164941Z
UID:25560-1748466000-1748475000@igrejadagraca.pt
SUMMARY:Procissão de Velas da Igreja da Conceição Velha a São Nicolau
DESCRIPTION:No dia 28 de maio\, às 21h00\, realiza-se a tradicional Procissão das Velas\, com partida da Igreja da Conceição Velha e percurso até à Igreja de São Nicolau. A procissão percorre as ruas do centro de Lisboa e é aberta a todos.
URL:https://igrejadagraca.pt/event/procissao-de-velas-da-igreja-da-conceicao-velha-a-sao-nicolau/
CATEGORIES:Celebrações
ATTACH;FMTTYPE=image/jpeg:https://igrejadagraca.pt/wp-content/uploads/2025/05/Procissao-de-Velas-Lisboa.jpg
END:VEVENT
END:VCALENDAR