BEGIN:VCALENDAR
VERSION:2.0
PRODID:-//Igreja da Graça - ECPv6.15.15//NONSGML v1.0//EN
CALSCALE:GREGORIAN
METHOD:PUBLISH
X-WR-CALNAME:Igreja da Graça
X-ORIGINAL-URL:https://igrejadagraca.pt
X-WR-CALDESC:Eventos para Igreja da Graça
REFRESH-INTERVAL;VALUE=DURATION:PT1H
X-Robots-Tag:noindex
X-PUBLISHED-TTL:PT1H
BEGIN:VTIMEZONE
TZID:Europe/Lisbon
BEGIN:DAYLIGHT
TZOFFSETFROM:+0000
TZOFFSETTO:+0100
TZNAME:WEST
DTSTART:20240331T010000
END:DAYLIGHT
BEGIN:STANDARD
TZOFFSETFROM:+0100
TZOFFSETTO:+0000
TZNAME:WET
DTSTART:20241027T010000
END:STANDARD
BEGIN:DAYLIGHT
TZOFFSETFROM:+0000
TZOFFSETTO:+0100
TZNAME:WEST
DTSTART:20250330T010000
END:DAYLIGHT
BEGIN:STANDARD
TZOFFSETFROM:+0100
TZOFFSETTO:+0000
TZNAME:WET
DTSTART:20251026T010000
END:STANDARD
BEGIN:DAYLIGHT
TZOFFSETFROM:+0000
TZOFFSETTO:+0100
TZNAME:WEST
DTSTART:20260329T010000
END:DAYLIGHT
BEGIN:STANDARD
TZOFFSETFROM:+0100
TZOFFSETTO:+0000
TZNAME:WET
DTSTART:20261025T010000
END:STANDARD
END:VTIMEZONE
BEGIN:VEVENT
DTSTART;TZID=Europe/Lisbon:20250527T190000
DTEND;TZID=Europe/Lisbon:20250527T233000
DTSTAMP:20260422T153146
CREATED:20250424T150426Z
LAST-MODIFIED:20250424T150426Z
UID:25490-1748372400-1748388600@igrejadagraca.pt
SUMMARY:Cinema: The Notebook
DESCRIPTION:Os claustros da Igreja da Graça recebem cinema ao ar livre\, numa iniciativa da Black Cat Cinema. \nDia 27 de maio: ​Mergulhe no romance intemporal de The Notebook. Realizado por Nick Cassavetes\, este drama comovente acompanha a história de amor duradoura de Noah e Allie\, ao longo de décadas de paixão\, separação e destino. Com profundidade emocional e momentos inesquecíveis\, é uma história comovente de amor que resiste a todos os obstáculos. \nBilhetes e mais informações aqui.
URL:https://igrejadagraca.pt/event/cinema-the-notebook/
CATEGORIES:Cinema,Eventos
ATTACH;FMTTYPE=image/jpeg:https://igrejadagraca.pt/wp-content/uploads/2025/04/notebook-movie.jpg
END:VEVENT
END:VCALENDAR