BEGIN:VCALENDAR
VERSION:2.0
PRODID:-//Igreja da Graça - ECPv6.15.15//NONSGML v1.0//EN
CALSCALE:GREGORIAN
METHOD:PUBLISH
X-ORIGINAL-URL:https://igrejadagraca.pt/en
X-WR-CALDESC:Events for Igreja da Graça
REFRESH-INTERVAL;VALUE=DURATION:PT1H
X-Robots-Tag:noindex
X-PUBLISHED-TTL:PT1H
BEGIN:VTIMEZONE
TZID:Europe/Lisbon
BEGIN:DAYLIGHT
TZOFFSETFROM:+0000
TZOFFSETTO:+0100
TZNAME:WEST
DTSTART:20240331T010000
END:DAYLIGHT
BEGIN:STANDARD
TZOFFSETFROM:+0100
TZOFFSETTO:+0000
TZNAME:WET
DTSTART:20241027T010000
END:STANDARD
BEGIN:DAYLIGHT
TZOFFSETFROM:+0000
TZOFFSETTO:+0100
TZNAME:WEST
DTSTART:20250330T010000
END:DAYLIGHT
BEGIN:STANDARD
TZOFFSETFROM:+0100
TZOFFSETTO:+0000
TZNAME:WET
DTSTART:20251026T010000
END:STANDARD
BEGIN:DAYLIGHT
TZOFFSETFROM:+0000
TZOFFSETTO:+0100
TZNAME:WEST
DTSTART:20260329T010000
END:DAYLIGHT
BEGIN:STANDARD
TZOFFSETFROM:+0100
TZOFFSETTO:+0000
TZNAME:WET
DTSTART:20261025T010000
END:STANDARD
END:VTIMEZONE
BEGIN:VEVENT
DTSTART;TZID=Europe/Lisbon:20250723T190000
DTEND;TZID=Europe/Lisbon:20250723T233000
DTSTAMP:20260422T203031
CREATED:20250428T120009Z
LAST-MODIFIED:20250429T144739Z
UID:25545-1753297200-1753313400@igrejadagraca.pt
SUMMARY:Cinema: Chicago
DESCRIPTION:Os claustros da Igreja da Graça recebem cinema ao ar livre\, numa iniciativa da Black Cat Cinema. \nDia 23 de julho: Entre no deslumbrante mundo de Chicago\, onde duas assassinas lutam pela fama e liberdade num sistema legal corrupto e cheio de jazz. Realizado por Rob Marshall\, este drama criminal musical mistura números de cortar a respiração\, sátira mordaz e intriga escandalosa. \nBilhetes e mais informações aqui.
URL:https://igrejadagraca.pt/en/event/cinema-o-rei-leao-2/
CATEGORIES:Cinema,Eventos
ATTACH;FMTTYPE=image/jpeg:https://igrejadagraca.pt/wp-content/uploads/2025/04/Chicago-movie.jpg
END:VEVENT
END:VCALENDAR