BEGIN:VCALENDAR
VERSION:2.0
PRODID:-//Igreja da Graça - ECPv6.15.15//NONSGML v1.0//EN
CALSCALE:GREGORIAN
METHOD:PUBLISH
X-WR-CALNAME:Igreja da Graça
X-ORIGINAL-URL:https://igrejadagraca.pt/en
X-WR-CALDESC:Events for Igreja da Graça
REFRESH-INTERVAL;VALUE=DURATION:PT1H
X-Robots-Tag:noindex
X-PUBLISHED-TTL:PT1H
BEGIN:VTIMEZONE
TZID:Europe/Lisbon
BEGIN:DAYLIGHT
TZOFFSETFROM:+0000
TZOFFSETTO:+0100
TZNAME:WEST
DTSTART:20240331T010000
END:DAYLIGHT
BEGIN:STANDARD
TZOFFSETFROM:+0100
TZOFFSETTO:+0000
TZNAME:WET
DTSTART:20241027T010000
END:STANDARD
BEGIN:DAYLIGHT
TZOFFSETFROM:+0000
TZOFFSETTO:+0100
TZNAME:WEST
DTSTART:20250330T010000
END:DAYLIGHT
BEGIN:STANDARD
TZOFFSETFROM:+0100
TZOFFSETTO:+0000
TZNAME:WET
DTSTART:20251026T010000
END:STANDARD
BEGIN:DAYLIGHT
TZOFFSETFROM:+0000
TZOFFSETTO:+0100
TZNAME:WEST
DTSTART:20260329T010000
END:DAYLIGHT
BEGIN:STANDARD
TZOFFSETFROM:+0100
TZOFFSETTO:+0000
TZNAME:WET
DTSTART:20261025T010000
END:STANDARD
END:VTIMEZONE
BEGIN:VEVENT
DTSTART;TZID=Europe/Lisbon:20250707T190000
DTEND;TZID=Europe/Lisbon:20250707T233000
DTSTAMP:20260422T201217
CREATED:20250424T165526Z
LAST-MODIFIED:20250424T165526Z
UID:25527-1751914800-1751931000@igrejadagraca.pt
SUMMARY:Cinema: In The Mood for Love
DESCRIPTION:Os claustros da Igreja da Graça recebem cinema ao ar livre\, numa iniciativa da Black Cat Cinema. \nDia 7 de julho: Experimente o desejo tranquilo de In the Mood for Love\, onde dois vizinhos formam uma ligação profunda\, mas contida\, depois de suspeitarem da infidelidade dos seus cônjuges. Realizado por Wong Kar-wai\, este romance visualmente poético capta o desejo não expresso\, a solidão dolorosa e a beleza dos momentos fugazes. \nBilhetes e mais informações aqui.
URL:https://igrejadagraca.pt/en/event/cinema-in-the-mood-for-love/
CATEGORIES:Cinema,Eventos
ATTACH;FMTTYPE=image/jpeg:https://igrejadagraca.pt/wp-content/uploads/2025/04/In-the-mood-for-love-movie.jpg
END:VEVENT
END:VCALENDAR