BEGIN:VCALENDAR
VERSION:2.0
PRODID:-//Igreja da Graça - ECPv6.15.15//NONSGML v1.0//EN
CALSCALE:GREGORIAN
METHOD:PUBLISH
X-WR-CALNAME:Igreja da Graça
X-ORIGINAL-URL:https://igrejadagraca.pt/en
X-WR-CALDESC:Events for Igreja da Graça
REFRESH-INTERVAL;VALUE=DURATION:PT1H
X-Robots-Tag:noindex
X-PUBLISHED-TTL:PT1H
BEGIN:VTIMEZONE
TZID:Europe/Lisbon
BEGIN:DAYLIGHT
TZOFFSETFROM:+0000
TZOFFSETTO:+0100
TZNAME:WEST
DTSTART:20240331T010000
END:DAYLIGHT
BEGIN:STANDARD
TZOFFSETFROM:+0100
TZOFFSETTO:+0000
TZNAME:WET
DTSTART:20241027T010000
END:STANDARD
BEGIN:DAYLIGHT
TZOFFSETFROM:+0000
TZOFFSETTO:+0100
TZNAME:WEST
DTSTART:20250330T010000
END:DAYLIGHT
BEGIN:STANDARD
TZOFFSETFROM:+0100
TZOFFSETTO:+0000
TZNAME:WET
DTSTART:20251026T010000
END:STANDARD
BEGIN:DAYLIGHT
TZOFFSETFROM:+0000
TZOFFSETTO:+0100
TZNAME:WEST
DTSTART:20260329T010000
END:DAYLIGHT
BEGIN:STANDARD
TZOFFSETFROM:+0100
TZOFFSETTO:+0000
TZNAME:WET
DTSTART:20261025T010000
END:STANDARD
END:VTIMEZONE
BEGIN:VEVENT
DTSTART;TZID=Europe/Lisbon:20250625T190000
DTEND;TZID=Europe/Lisbon:20250625T233000
DTSTAMP:20260422T183127
CREATED:20250424T164606Z
LAST-MODIFIED:20250424T164606Z
UID:25521-1750878000-1750894200@igrejadagraca.pt
SUMMARY:Cinema: Midnight In Paris
DESCRIPTION:Os claustros da Igreja da Graça recebem cinema ao ar livre\, numa iniciativa da Black Cat Cinema. \nDia 25 de junho: Entre no mundo encantador de “Midnight in Paris”. Realizado por Woody Allen\, este filme caprichoso segue um escritor que se vê misteriosamente transportado todas as noites para a Paris dos anos 20\, onde encontra os seus ídolos literários. Com atuações encantadoras e uma atmosfera mágica\, é uma exploração deliciosa da nostalgia\, da criatividade e da auto-descoberta. \nBilhetes e mais informações aqui.
URL:https://igrejadagraca.pt/en/event/cinema-midnight-in-paris/
CATEGORIES:Cinema,Eventos
ATTACH;FMTTYPE=image/jpeg:https://igrejadagraca.pt/wp-content/uploads/2025/04/Midnight-in-Paris-movie.jpg
END:VEVENT
END:VCALENDAR