BEGIN:VCALENDAR
VERSION:2.0
PRODID:-//Igreja da Graça - ECPv6.15.15//NONSGML v1.0//EN
CALSCALE:GREGORIAN
METHOD:PUBLISH
X-WR-CALNAME:Igreja da Graça
X-ORIGINAL-URL:https://igrejadagraca.pt/en
X-WR-CALDESC:Events for Igreja da Graça
REFRESH-INTERVAL;VALUE=DURATION:PT1H
X-Robots-Tag:noindex
X-PUBLISHED-TTL:PT1H
BEGIN:VTIMEZONE
TZID:Europe/Lisbon
BEGIN:DAYLIGHT
TZOFFSETFROM:+0000
TZOFFSETTO:+0100
TZNAME:WEST
DTSTART:20240331T010000
END:DAYLIGHT
BEGIN:STANDARD
TZOFFSETFROM:+0100
TZOFFSETTO:+0000
TZNAME:WET
DTSTART:20241027T010000
END:STANDARD
BEGIN:DAYLIGHT
TZOFFSETFROM:+0000
TZOFFSETTO:+0100
TZNAME:WEST
DTSTART:20250330T010000
END:DAYLIGHT
BEGIN:STANDARD
TZOFFSETFROM:+0100
TZOFFSETTO:+0000
TZNAME:WET
DTSTART:20251026T010000
END:STANDARD
BEGIN:DAYLIGHT
TZOFFSETFROM:+0000
TZOFFSETTO:+0100
TZNAME:WEST
DTSTART:20260329T010000
END:DAYLIGHT
BEGIN:STANDARD
TZOFFSETFROM:+0100
TZOFFSETTO:+0000
TZNAME:WET
DTSTART:20261025T010000
END:STANDARD
END:VTIMEZONE
BEGIN:VEVENT
DTSTART;TZID=Europe/Lisbon:20250602T190000
DTEND;TZID=Europe/Lisbon:20250602T233000
DTSTAMP:20260422T180926
CREATED:20250424T152306Z
LAST-MODIFIED:20250424T152306Z
UID:25502-1748890800-1748907000@igrejadagraca.pt
SUMMARY:Cinema: Mamma Mia
DESCRIPTION:Os claustros da Igreja da Graça recebem cinema ao ar livre\, numa iniciativa da Black Cat Cinema. \nDia 2 de junho: ​Cante\, dance e celebre o amor com Mamma Mia! Dirigido por Phyllida Lloyd\, este alegre musical acompanha uma jovem noiva que convida três homens do passado da sua mãe para o seu casamento\, na esperança de descobrir o seu pai. Repleto dos maiores êxitos dos ABBA e com um cenário de ilha grega de cortar a respiração\, é uma extravagância de música e romance. \nBilhetes e mais informações aqui.
URL:https://igrejadagraca.pt/en/event/cinema-mamma-mia/
CATEGORIES:Cinema,Eventos
ATTACH;FMTTYPE=image/jpeg:https://igrejadagraca.pt/wp-content/uploads/2025/04/mamma-mia-movie.jpg
END:VEVENT
END:VCALENDAR