BEGIN:VCALENDAR
VERSION:2.0
PRODID:-//Igreja da Graça - ECPv6.15.15//NONSGML v1.0//EN
CALSCALE:GREGORIAN
METHOD:PUBLISH
X-ORIGINAL-URL:https://igrejadagraca.pt/en
X-WR-CALDESC:Events for Igreja da Graça
REFRESH-INTERVAL;VALUE=DURATION:PT1H
X-Robots-Tag:noindex
X-PUBLISHED-TTL:PT1H
BEGIN:VTIMEZONE
TZID:Europe/Lisbon
BEGIN:DAYLIGHT
TZOFFSETFROM:+0000
TZOFFSETTO:+0100
TZNAME:WEST
DTSTART:20240331T010000
END:DAYLIGHT
BEGIN:STANDARD
TZOFFSETFROM:+0100
TZOFFSETTO:+0000
TZNAME:WET
DTSTART:20241027T010000
END:STANDARD
BEGIN:DAYLIGHT
TZOFFSETFROM:+0000
TZOFFSETTO:+0100
TZNAME:WEST
DTSTART:20250330T010000
END:DAYLIGHT
BEGIN:STANDARD
TZOFFSETFROM:+0100
TZOFFSETTO:+0000
TZNAME:WET
DTSTART:20251026T010000
END:STANDARD
BEGIN:DAYLIGHT
TZOFFSETFROM:+0000
TZOFFSETTO:+0100
TZNAME:WEST
DTSTART:20260329T010000
END:DAYLIGHT
BEGIN:STANDARD
TZOFFSETFROM:+0100
TZOFFSETTO:+0000
TZNAME:WET
DTSTART:20261025T010000
END:STANDARD
END:VTIMEZONE
BEGIN:VEVENT
DTSTART;TZID=Europe/Lisbon:20250512T190000
DTEND;TZID=Europe/Lisbon:20250512T233000
DTSTAMP:20260422T171004
CREATED:20250424T143605Z
LAST-MODIFIED:20250424T143910Z
UID:25478-1747076400-1747092600@igrejadagraca.pt
SUMMARY:Cinema: A Complete Unknown
DESCRIPTION:Os claustros da Igreja da Graça recebem cinema ao ar livre\, numa iniciativa da Black Cat Cinema. \nDia 12 de maio: ​Embarque numa viagem através dos transformadores primeiros anos de Bob Dylan em “A Complete Unknown”. Realizado por James Mangold\, este drama biográfico de 2024 narra a chegada de Dylan à cidade de Nova Iorque em 1961\, a sua ascensão meteórica na cena da música folk e os momentos cruciais que levaram à sua controversa atuação eléctrica no Newport Folk Festival de 1965. Com Timothée Chalamet a fazer um retrato cativante de Dylan\, o filme oferece um vislumbre íntimo da vida do enigmático artista que remodelou a paisagem da música americana. \nBilhetes esgotados para esta sessão.
URL:https://igrejadagraca.pt/en/event/cinema-a-complete-unknown/
CATEGORIES:Cinema,Eventos,Paróquia
ATTACH;FMTTYPE=image/jpeg:https://igrejadagraca.pt/wp-content/uploads/2025/04/complete-unknown-movie-1.jpg
END:VEVENT
END:VCALENDAR