BEGIN:VCALENDAR
VERSION:2.0
PRODID:-//Igreja da Graça - ECPv6.15.15//NONSGML v1.0//EN
CALSCALE:GREGORIAN
METHOD:PUBLISH
X-WR-CALNAME:Igreja da Graça
X-ORIGINAL-URL:https://igrejadagraca.pt/en
X-WR-CALDESC:Events for Igreja da Graça
REFRESH-INTERVAL;VALUE=DURATION:PT1H
X-Robots-Tag:noindex
X-PUBLISHED-TTL:PT1H
BEGIN:VTIMEZONE
TZID:Europe/Lisbon
BEGIN:DAYLIGHT
TZOFFSETFROM:+0000
TZOFFSETTO:+0100
TZNAME:WEST
DTSTART:20230326T010000
END:DAYLIGHT
BEGIN:STANDARD
TZOFFSETFROM:+0100
TZOFFSETTO:+0000
TZNAME:WET
DTSTART:20231029T010000
END:STANDARD
BEGIN:DAYLIGHT
TZOFFSETFROM:+0000
TZOFFSETTO:+0100
TZNAME:WEST
DTSTART:20240331T010000
END:DAYLIGHT
BEGIN:STANDARD
TZOFFSETFROM:+0100
TZOFFSETTO:+0000
TZNAME:WET
DTSTART:20241027T010000
END:STANDARD
BEGIN:DAYLIGHT
TZOFFSETFROM:+0000
TZOFFSETTO:+0100
TZNAME:WEST
DTSTART:20250330T010000
END:DAYLIGHT
BEGIN:STANDARD
TZOFFSETFROM:+0100
TZOFFSETTO:+0000
TZNAME:WET
DTSTART:20251026T010000
END:STANDARD
END:VTIMEZONE
BEGIN:VEVENT
DTSTART;TZID=Europe/Lisbon:20240603T210000
DTEND;TZID=Europe/Lisbon:20240701T000000
DTSTAMP:20260420T133729
CREATED:20240603T164728Z
LAST-MODIFIED:20240603T164905Z
UID:24892-1717448400-1719792000@igrejadagraca.pt
SUMMARY:Cinema ao ar livre nos clautros da Igreja da Graça
DESCRIPTION:Os claustros da Igreja da Graça acolhem\, durante todo o mês de Junho\, pelas 21h00\, cinema ao ar livre!\nUma iniciativa da BlackCat Cinema \nVeja toda a programação aqui 👇🏻 \n▪️ 03/06/2024 La La Land\n▪️ 09/06/2024 The Princess Bride\n▪️ 10/06/2024 OFF: SANTOS POPULARES\n▪️ 16/06/2024 The Grand Budapest Hotel\n▪️ 17/06/2024 Chungking Express\n▪️ 23/06/2024 Legally Blonde\n▪️ 24/06/2024 The Truman Show\n▪️ 25/06/2024 A ser confirmado\n▪️ 30/06/2024 The Worst Person in the World\n▪️ 01/07/2024 (500) Days of Summer \nBilhetes aqui 👉 https://www.theblackcatcinema.com/pt
URL:https://igrejadagraca.pt/en/event/cinema-ao-ar-livre-nos-clautros-da-igrej-ada-graca/
CATEGORIES:Cinema,Eventos
ATTACH;FMTTYPE=image/png:https://igrejadagraca.pt/wp-content/uploads/2024/06/Agenda-Site-da-Graca-14.png
END:VEVENT
BEGIN:VEVENT
DTSTART;VALUE=DATE:20240608
DTEND;VALUE=DATE:20240613
DTSTAMP:20260420T133729
CREATED:20240604T100705Z
LAST-MODIFIED:20240604T100705Z
UID:24897-1717804800-1718236799@igrejadagraca.pt
SUMMARY:O Arraial com mais Graça de Lisboa está de volta! 
DESCRIPTION:O Arraial com mais Graça de Lisboa está de volta!\n\n\n\nEntre os dias 8 e 12 de junho\, os escuteiros do Agrupamento 63 Graça celebram o Santo António.\n\n\nNo Jardim Augusto Gil/Jardim da Graça\, junto à Igreja da Graça.\n\nJunte-se a esta festa e traga os amigos e família e venha festejar no melhor Arraial da cidade. 
URL:https://igrejadagraca.pt/en/event/o-arraial-com-mais-graca-de-lisboa-esta-de-volta/
CATEGORIES:Eventos
ATTACH;FMTTYPE=image/png:https://igrejadagraca.pt/wp-content/uploads/2024/06/Agenda-Site-da-Graca-15.png
END:VEVENT
END:VCALENDAR